BEGIN:VCALENDAR
VERSION:2.0
PRODID:-//Semer - ECPv6.9.0//NONSGML v1.0//EN
CALSCALE:GREGORIAN
METHOD:PUBLISH
X-ORIGINAL-URL:https://semer.info
X-WR-CALDESC:Évènements pour Semer
REFRESH-INTERVAL;VALUE=DURATION:PT1H
X-Robots-Tag:noindex
X-PUBLISHED-TTL:PT1H
BEGIN:VTIMEZONE
TZID:UTC
BEGIN:STANDARD
TZOFFSETFROM:+0000
TZOFFSETTO:+0000
TZNAME:UTC
DTSTART:20170101T000000
END:STANDARD
END:VTIMEZONE
BEGIN:VEVENT
DTSTART;TZID=UTC:20170513T080000
DTEND;TZID=UTC:20170513T093000
DTSTAMP:20260421T200143
CREATED:20170508T205303Z
LAST-MODIFIED:20170508T205619Z
UID:2303-1494662400-1494667800@semer.info
SUMMARY:Conférence "Des Prophètes Protestants"
DESCRIPTION:Manifestations surnaturelles du Seigneur dans le mouvement prophétique dans les Cévennes de la fin du XVIIème siècle.\nConférencier: Eugène RARD\, auteur\, président ONG Semer
URL:https://semer.info/event/conference-des-prophetes-protestants/
LOCATION:Salle Ste Barbe\, Rue Sainte Barbe\, Sélestat\, 67600\, France Métropolitaine
ATTACH;FMTTYPE=image/jpeg:https://semer.info/wp-content/uploads/2017/05/Selestat-Expo-Bible-Mai-2017_001.jpg
END:VEVENT
END:VCALENDAR