BEGIN:VCALENDAR
VERSION:2.0
PRODID:-//Semer - ECPv6.9.0//NONSGML v1.0//EN
CALSCALE:GREGORIAN
METHOD:PUBLISH
X-WR-CALNAME:Semer
X-ORIGINAL-URL:https://semer.info
X-WR-CALDESC:Évènements pour Semer
REFRESH-INTERVAL;VALUE=DURATION:PT1H
X-Robots-Tag:noindex
X-PUBLISHED-TTL:PT1H
BEGIN:VTIMEZONE
TZID:UTC
BEGIN:STANDARD
TZOFFSETFROM:+0000
TZOFFSETTO:+0000
TZNAME:UTC
DTSTART:20200101T000000
END:STANDARD
END:VTIMEZONE
BEGIN:VEVENT
DTSTART;TZID=UTC:20201204T100000
DTEND;TZID=UTC:20201206T180000
DTSTAMP:20260424T051932
CREATED:20201203T210738Z
LAST-MODIFIED:20201203T211225Z
UID:10420-1607076000-1607277600@semer.info
SUMMARY:SILFF - Salon du livre virtuel
DESCRIPTION:Profitez de ce salon pour passer me dire bonjour et peut-être découvrir nos derniers livres\, je vous en parlerai ainsi que de mes projets littéraires!). Suivez le lien: RARD Eugène (sillf.comvirtuel
URL:https://semer.info/event/silff-salon-du-livre-virtuel/
END:VEVENT
END:VCALENDAR